BEGIN:VCALENDAR
VERSION:2.0
PRODID:SchoolNow
CALSCALE:GREGORIAN
BEGIN:VEVENT
UID:37dba67e-55ae-11ef-b550-0e674cfac08b
DTSTAMP:20251217T035517Z
SUMMARY:Shark Band Booster Board Meeting
URL;VALUE=URI:https://www.lpssonline.com/schools/southside/clubs-organizati
 ons/band/calendar/6372585/shark-band-booster-board-meeting
DTSTART:20260407T230000Z
DTEND:20260408T000000Z
END:VEVENT
END:VCALENDAR
