BEGIN:VCALENDAR
VERSION:2.0
PRODID:SchoolNow
CALSCALE:GREGORIAN
BEGIN:VEVENT
UID:4e93f134-38d1-11ec-aeb5-0242a7ee8799
DTSTAMP:20211029T160015Z
SUMMARY:Teacher Inservice Day/No School
URL;VALUE=URI:https://www.lpssonline.com/schools/woodvale/calendar/2853796/
 teacher-inservice-day-no-school
DTSTART:20211101T130000Z
DTEND:20211101T200000Z
END:VEVENT
END:VCALENDAR
