BEGIN:VCALENDAR
VERSION:2.0
PRODID:SchoolNow
CALSCALE:GREGORIAN
BEGIN:VEVENT
UID:78391bd0-38d2-11ec-b5d8-0242a7ee8799
DTSTAMP:20211029T160835Z
SUMMARY:Thanksgiving Break!
URL;VALUE=URI:https://www.lpssonline.com/schools/woodvale/calendar/2853798/
 thanksgiving-break
DTSTART;VALUE=DATE:20211122
DTEND;VALUE=DATE:20211127
END:VEVENT
END:VCALENDAR
