BEGIN:VCALENDAR
VERSION:2.0
PRODID:SchoolNow
CALSCALE:GREGORIAN
BEGIN:VEVENT
UID:97fbb1d2-3c45-11ec-9429-02caa896d9dd
DTSTAMP:20211103T013111Z
SUMMARY:Penny War Fundraiser!
URL;VALUE=URI:https://www.lpssonline.com/schools/woodvale/calendar/2864273/
 penny-war-fundraiser
DTSTART:20211103T012900Z
DTEND:20211106T022900Z
END:VEVENT
END:VCALENDAR
