BEGIN:VCALENDAR
VERSION:2.0
PRODID:SchoolNow
CALSCALE:GREGORIAN
BEGIN:VEVENT
UID:dbaa5802-3c45-11ec-a162-02caa896d9dd
DTSTAMP:20211103T013207Z
SUMMARY:Progress Reports!
URL;VALUE=URI:https://www.lpssonline.com/schools/woodvale/calendar/2864274/
 progress-reports
DTSTART:20211118T023100Z
DTEND:20211118T033100Z
END:VEVENT
END:VCALENDAR
