BEGIN:VCALENDAR
VERSION:2.0
PRODID:SchoolNow
CALSCALE:GREGORIAN
BEGIN:VEVENT
UID:4c0b4ad4-3d95-11ec-89ed-0e2c74c2068d
DTSTAMP:20211104T173317Z
SUMMARY:Christmas Break
URL;VALUE=URI:https://www.lpssonline.com/schools/woodvale/calendar/2868516/
 christmas-break
DTSTART:20211220T183200Z
DTEND:20211231T193200Z
END:VEVENT
END:VCALENDAR
