BEGIN:VCALENDAR
VERSION:2.0
PRODID:SchoolNow
CALSCALE:GREGORIAN
BEGIN:VEVENT
UID:78fcf858-3d95-11ec-af5c-0e2c74c2068d
DTSTAMP:20211104T173433Z
SUMMARY:Teacher Inservice Day
URL;VALUE=URI:https://www.lpssonline.com/schools/woodvale/calendar/2868517/
 teacher-inservice-day
DTSTART;VALUE=DATE:20220103
DTEND;VALUE=DATE:20220104
END:VEVENT
END:VCALENDAR
