BEGIN:VCALENDAR
VERSION:2.0
PRODID:SchoolNow
CALSCALE:GREGORIAN
BEGIN:VEVENT
UID:c485752a-3d95-11ec-b039-0e2c74c2068d
DTSTAMP:20211104T173639Z
SUMMARY:Parent/Teacher conferences
URL;VALUE=URI:https://www.lpssonline.com/schools/woodvale/calendar/2868523/
 parent-teacher-conferences
DTSTART:20220225T183500Z
DTEND:20220225T193500Z
END:VEVENT
END:VCALENDAR
