BEGIN:VCALENDAR
VERSION:2.0
PRODID:SchoolNow
CALSCALE:GREGORIAN
BEGIN:VEVENT
UID:f90b8be0-3d95-11ec-88f7-0e2c74c2068d
DTSTAMP:20211104T173807Z
SUMMARY:Martin Luther King Jr. Day
URL;VALUE=URI:https://www.lpssonline.com/schools/woodvale/calendar/2868524/
 martin-luther-king-jr-day
DTSTART;VALUE=DATE:20220117
DTEND;VALUE=DATE:20220118
END:VEVENT
END:VCALENDAR
