BEGIN:VCALENDAR
VERSION:2.0
PRODID:SchoolNow
CALSCALE:GREGORIAN
BEGIN:VEVENT
UID:0ccf88a2-3d96-11ec-9e06-0e2c74c2068d
DTSTAMP:20211104T173841Z
SUMMARY:Spring Break!
URL;VALUE=URI:https://www.lpssonline.com/schools/woodvale/calendar/2868525/
 spring-break
DTSTART;VALUE=DATE:20220422
DTEND;VALUE=DATE:20220423
END:VEVENT
END:VCALENDAR
